BEGIN:VCALENDAR
VERSION:2.0
PRODID:-//Home Builders Association of Central New Mexico - ECPv6.15.12.2//NONSGML v1.0//EN
CALSCALE:GREGORIAN
METHOD:PUBLISH
X-ORIGINAL-URL:https://www.hbacnm.com
X-WR-CALDESC:Events for Home Builders Association of Central New Mexico
REFRESH-INTERVAL;VALUE=DURATION:PT1H
X-Robots-Tag:noindex
X-PUBLISHED-TTL:PT1H
BEGIN:VTIMEZONE
TZID:America/Denver
BEGIN:DAYLIGHT
TZOFFSETFROM:-0700
TZOFFSETTO:-0600
TZNAME:MDT
DTSTART:20170312T090000
END:DAYLIGHT
BEGIN:STANDARD
TZOFFSETFROM:-0600
TZOFFSETTO:-0700
TZNAME:MST
DTSTART:20171105T080000
END:STANDARD
BEGIN:DAYLIGHT
TZOFFSETFROM:-0700
TZOFFSETTO:-0600
TZNAME:MDT
DTSTART:20180311T090000
END:DAYLIGHT
BEGIN:STANDARD
TZOFFSETFROM:-0600
TZOFFSETTO:-0700
TZNAME:MST
DTSTART:20181104T080000
END:STANDARD
BEGIN:DAYLIGHT
TZOFFSETFROM:-0700
TZOFFSETTO:-0600
TZNAME:MDT
DTSTART:20190310T090000
END:DAYLIGHT
BEGIN:STANDARD
TZOFFSETFROM:-0600
TZOFFSETTO:-0700
TZNAME:MST
DTSTART:20191103T080000
END:STANDARD
BEGIN:DAYLIGHT
TZOFFSETFROM:-0700
TZOFFSETTO:-0600
TZNAME:MDT
DTSTART:20200308T090000
END:DAYLIGHT
BEGIN:STANDARD
TZOFFSETFROM:-0600
TZOFFSETTO:-0700
TZNAME:MST
DTSTART:20201101T080000
END:STANDARD
BEGIN:DAYLIGHT
TZOFFSETFROM:-0700
TZOFFSETTO:-0600
TZNAME:MDT
DTSTART:20210314T090000
END:DAYLIGHT
BEGIN:STANDARD
TZOFFSETFROM:-0600
TZOFFSETTO:-0700
TZNAME:MST
DTSTART:20211107T080000
END:STANDARD
END:VTIMEZONE
BEGIN:VEVENT
DTSTART;TZID=America/Denver:20200227T113000
DTEND;TZID=America/Denver:20200227T130000
DTSTAMP:20260423T023942
CREATED:20200128T175504Z
LAST-MODIFIED:20200128T175504Z
UID:10000571-1582803000-1582808400@www.hbacnm.com
SUMMARY:Legislative Update
DESCRIPTION:During this year’s 30 day legislative session\, we have focused on: \nAttracting Retirees to New Mexico\nConstruction Defects Litigation\nBudget Surpluses\nLegalizing Cannabis\nEarly Childhood Education \nCome learn more and ask any questions to HBACNM’s Executive VP\, John Garica. \nRSVP to Jill today – JKrogman@HBACNM.com or 505.344.3294.
URL:https://www.hbacnm.com/event/legislative-update-2/
LOCATION:Westway Homes\, 9600 Tennyson NE\, Albuquerque\, NM\, 87122\, United States
CATEGORIES:Calendar,Classes
GEO:35.1898863;-106.4971417
X-APPLE-STRUCTURED-LOCATION;VALUE=URI;X-ADDRESS=Westway Homes 9600 Tennyson NE Albuquerque NM 87122 United States;X-APPLE-RADIUS=500;X-TITLE=9600 Tennyson NE:geo:-106.4971417,35.1898863
END:VEVENT
BEGIN:VEVENT
DTSTART;TZID=America/Denver:20190619T090000
DTEND;TZID=America/Denver:20190619T110000
DTSTAMP:20260423T023942
CREATED:20190610T173551Z
LAST-MODIFIED:20190610T174408Z
UID:10000537-1560934800-1560942000@www.hbacnm.com
SUMMARY:9 Personality Types Breakfast Seminar
DESCRIPTION:The Enneagram of personality \nTo be successful in today’s competitive market\, effective communication skills are paramount. There is a personality typing system with ancient roots that is making a big impact with today’s business professionals. The Enneagram of personality is an amazing system to understand yourself and others in a profound way. This system is being used by coaches\, counselors\, sales and marketing professionals and even Fortune 500 companies to increase effectiveness and success. You will learn about the 9 personality styles\, the key motivations of today’s consumer\, what makes others feel\, act\, and think the way they do\, as well as gain tools to communicate effectively with each personality type.Quint Lears Breakfast Seminar
URL:https://www.hbacnm.com/event/9-personality-types-breakfast-seminar/
LOCATION:Westway Homes\, 9600 Tennyson NE\, Albuquerque\, NM\, 87122\, United States
CATEGORIES:Calendar,Classes
GEO:35.1898863;-106.4971417
X-APPLE-STRUCTURED-LOCATION;VALUE=URI;X-ADDRESS=Westway Homes 9600 Tennyson NE Albuquerque NM 87122 United States;X-APPLE-RADIUS=500;X-TITLE=9600 Tennyson NE:geo:-106.4971417,35.1898863
END:VEVENT
BEGIN:VEVENT
DTSTART;TZID=America/Denver:20180509T113000
DTEND;TZID=America/Denver:20180509T130000
DTSTAMP:20260423T023942
CREATED:20180326T175053Z
LAST-MODIFIED:20180326T175053Z
UID:10000454-1525865400-1525870800@www.hbacnm.com
SUMMARY:Lunch & Learn\, Renovation Loans by Prime Lending
DESCRIPTION:
URL:https://www.hbacnm.com/event/lunch-learn-renovation-loans-by-prime-lending/
LOCATION:Westway Homes\, 9600 Tennyson NE\, Albuquerque\, NM\, 87122\, United States
CATEGORIES:Calendar,Classes
GEO:35.1898863;-106.4971417
X-APPLE-STRUCTURED-LOCATION;VALUE=URI;X-ADDRESS=Westway Homes 9600 Tennyson NE Albuquerque NM 87122 United States;X-APPLE-RADIUS=500;X-TITLE=9600 Tennyson NE:geo:-106.4971417,35.1898863
END:VEVENT
BEGIN:VEVENT
DTSTART;TZID=America/Denver:20180509T110000
DTEND;TZID=America/Denver:20180509T130000
DTSTAMP:20260423T023942
CREATED:20180507T145412Z
LAST-MODIFIED:20180507T145412Z
UID:10000472-1525863600-1525870800@www.hbacnm.com
SUMMARY:Lunch & Learn; Renovation Loan Workshop
DESCRIPTION:
URL:https://www.hbacnm.com/event/lunch-renovation-loan-workshop/
LOCATION:Westway Homes\, 9600 Tennyson NE\, Albuquerque\, NM\, 87122\, United States
CATEGORIES:Calendar,Classes
GEO:35.1898863;-106.4971417
X-APPLE-STRUCTURED-LOCATION;VALUE=URI;X-ADDRESS=Westway Homes 9600 Tennyson NE Albuquerque NM 87122 United States;X-APPLE-RADIUS=500;X-TITLE=9600 Tennyson NE:geo:-106.4971417,35.1898863
END:VEVENT
BEGIN:VEVENT
DTSTART;TZID=America/Denver:20180313T110000
DTEND;TZID=America/Denver:20180313T140000
DTSTAMP:20260423T023942
CREATED:20180220T221556Z
LAST-MODIFIED:20180220T221556Z
UID:10000442-1520938800-1520949600@www.hbacnm.com
SUMMARY:Builder Town Hall
DESCRIPTION:Learn everything you always wanted to know about our top local\nhomebuilders. Ask our panel of experts representing each of the top local\nhomebuilders the questions that are important to you and your customers! \n– What is new in construction practices today\n– Get the latest information on smart home technologies\n– Find out how to protect your commissions with customer referrals\n– And much more! \nPanel of experts: \nAbrazo Homes\nDR Horton\nLas Ventanas Homes\nPulte Homes\nWestway Homes
URL:https://www.hbacnm.com/event/builder-town-hall/
LOCATION:Westway Homes\, 9600 Tennyson NE\, Albuquerque\, NM\, 87122\, United States
CATEGORIES:Calendar,Events
GEO:35.1898863;-106.4971417
X-APPLE-STRUCTURED-LOCATION;VALUE=URI;X-ADDRESS=Westway Homes 9600 Tennyson NE Albuquerque NM 87122 United States;X-APPLE-RADIUS=500;X-TITLE=9600 Tennyson NE:geo:-106.4971417,35.1898863
END:VEVENT
END:VCALENDAR